BEGIN:VCALENDAR
VERSION:2.0
PRODID:-//Quartier Libre 4c - ECPv6.7.0//NONSGML v1.0//EN
CALSCALE:GREGORIAN
METHOD:PUBLISH
X-ORIGINAL-URL:https://quartierlibre4c.fr
X-WR-CALDESC:Évènements pour Quartier Libre 4c
REFRESH-INTERVAL;VALUE=DURATION:PT1H
X-Robots-Tag:noindex
X-PUBLISHED-TTL:PT1H
BEGIN:VTIMEZONE
TZID:Europe/Paris
BEGIN:DAYLIGHT
TZOFFSETFROM:+0100
TZOFFSETTO:+0200
TZNAME:CEST
DTSTART:20260329T010000
END:DAYLIGHT
BEGIN:STANDARD
TZOFFSETFROM:+0200
TZOFFSETTO:+0100
TZNAME:CET
DTSTART:20261025T010000
END:STANDARD
END:VTIMEZONE
BEGIN:VEVENT
DTSTART;TZID=Europe/Paris:20260214T143000
DTEND;TZID=Europe/Paris:20260214T170000
DTSTAMP:20260419T164557
CREATED:20260129T074135Z
LAST-MODIFIED:20260129T074449Z
UID:8900-1771079400-1771088400@quartierlibre4c.fr
SUMMARY:Samedi 14 février Atelier pâtes fraiches de 14h30 à 17h
DESCRIPTION:Apprenez à réaliser des tagliatelles fraîches et une sauce tomate maison \n  \nInscrits : 0 / 10Il n'y a plus de places disponibles pour l'atelier.
URL:https://quartierlibre4c.fr/evenement/samedi-14-fevrier-atelier-pates-fraiches-de-14h30-a-17h/
LOCATION:Quartier Libre\, 9 rue de la Charbonnière\, Paris\, 75018\, France
CATEGORIES:Atelier cuisine
ATTACH;FMTTYPE=image/jpeg:https://quartierlibre4c.fr/wp-content/uploads/2026/01/Capturepates.jpg
ORGANIZER;CN="Quartier Libre":MAILTO:contact@quartierlibre4c.fr
END:VEVENT
END:VCALENDAR